BEGIN:VCALENDAR
VERSION:2.0
METHOD:PUBLISH
PRODID:-//Accessible Web Design//My Calendar//http://www.joedolson.com//v//EN';
BEGIN:VEVENT
UID:29-27
LOCATION:
SUMMARY:Sausalito Regular City Council ZOOM (All Virtual) Meeting
DTSTAMP:20230509T190000
ORGANIZER;CN=MOM:MAILTO:marlyse@liveaboardsunited.org
DTSTART:20230509T190000
DTEND:20230509T220000
CATEGORIES:Sausalito City Council
URL;VALUE=URI:https://liveaboardsunited.org/mc-events/sausalito-regular-city-council-zoom-all-virtual-meeting/?mc_id=29
DESCRIPTION:Agenda | Submit Email Correspondence | Zoom | Webcasts | Meeting Archives
END:VEVENT
END:VCALENDAR